BEGIN:VCALENDAR
VERSION:2.0
PRODID:-//ChamberMaster//Event Calendar 2.0//EN
METHOD:PUBLISH
X-PUBLISHED-TTL:P3D
REFRESH-INTERVAL:P3D
CALSCALE:GREGORIAN
BEGIN:VEVENT
DTSTART:20220319T120000Z
DTEND:20220319T140000Z
X-MICROSOFT-CDO-ALLDAYEVENT:FALSE
SUMMARY:Wellen Park St. Patrick's Day 5K Run/Walk
DESCRIPTION:Wellen Park is pleased to announce their first St. Patrick's Day 5K\, 2022. Starting and finishing at Publix\, West Villages Marketplace in Mercado Drive\, Venice.
X-ALT-DESC;FMTTYPE=text/html:<span style="background-color:rgb(255\, 255\, 255)\; color:rgb(85\, 85\, 85)\; font-family:roboto\,helvetica neue\,helvetica\,sans-serif\; font-size:16.8px">Wellen Park is pleased to announce their first St. Patrick&#39\;s Day 5K\, 2022. Starting and finishing at Publix\, West Villages Marketplace in Mercado Drive\, Venice.&nbsp\;</span>
LOCATION:Publix\,12165 Mercado Dr\, Venice\, FL 34293
UID:e.3611.2571
SEQUENCE:3
DTSTAMP:20260421T023357Z
URL:https://charlottecountychamber-gzcms.preview.gochambermaster.com/events/details/wellen-park-st-patrick-s-day-5k-run-walk-2571
END:VEVENT

END:VCALENDAR
