BEGIN:VCALENDAR
VERSION:2.0
PRODID:-//ChamberMaster//Event Calendar 2.0//EN
METHOD:PUBLISH
X-PUBLISHED-TTL:P3D
REFRESH-INTERVAL:P3D
CALSCALE:GREGORIAN
BEGIN:VEVENT
DTSTART:20211221T060000Z
DTEND:20211221T070000Z
X-MICROSOFT-CDO-ALLDAYEVENT:FALSE
SUMMARY:Weekly Documentary- THE CHRISTMAS TRUCE (HISTORY) 2002
DESCRIPTION:The Christmas Truce occurred on and around Christmas Day 1914\, when the sounds of rifles firing and shells exploding faded in several places along the Western Front during World War I in favor of holiday celebrations. During the unofficial ceasefire\, soldiers on both sides of the conflict emerged from the trenches and shared gestures of goodwill.
X-ALT-DESC;FMTTYPE=text/html:<span style="color:#181818"><span style="font-family:helvetica\,sans-serif">The Christmas Truce occurred on and around&nbsp\;</span></span><span style="color:black"><span style="font-family:helvetica\,sans-serif">Christmas Day 1914</span></span><span style="color:#181818"><span style="font-family:helvetica\,sans-serif">\, when the sounds of rifles firing and shells exploding faded in several places along the Western Front during&nbsp\;</span></span><span style="color:black"><span style="font-family:helvetica\,sans-serif">World War I&nbsp\;</span></span><span style="color:#181818"><span style="font-family:helvetica\,sans-serif">in favor of holiday celebrations. During the unofficial ceasefire\, soldiers on both sides of the conflict emerged from the trenches and shared gestures of goodwill.</span></span>
LOCATION:
UID:e.3611.2262
SEQUENCE:3
DTSTAMP:20260421T055220Z
URL:https://charlottecountychamber-gzcms.preview.gochambermaster.com/events/details/weekly-documentary-the-christmas-truce-history-2002-2262
END:VEVENT

END:VCALENDAR
