BEGIN:VCALENDAR
VERSION:2.0
PRODID:-//ChamberMaster//Event Calendar 2.0//EN
METHOD:PUBLISH
X-PUBLISHED-TTL:P3D
REFRESH-INTERVAL:P3D
CALSCALE:GREGORIAN
BEGIN:VEVENT
DTSTART:20220115T180000Z
DTEND:20220115T190000Z
X-MICROSOFT-CDO-ALLDAYEVENT:FALSE
SUMMARY:WEEKLY DOCUMENTARY (incl. in admission to the Museum) Spy Web: U.S. Army Intelligence
DESCRIPTION:The history of U.S. Army intelligence\, from its Revolutionary War Roots to the World Wars\, Cold War and Vietnam\, culminating in electronic intelligence units\, first used in the Gulf War.
X-ALT-DESC;FMTTYPE=text/html:The history of U.S. Army intelligence\, from its Revolutionary War Roots to the World Wars\, Cold War and Vietnam\, culminating in electronic intelligence units\, first used in the Gulf War.
LOCATION:
UID:e.3611.2286
SEQUENCE:3
DTSTAMP:20260421T012451Z
URL:https://charlottecountychamber-gzcms.preview.gochambermaster.com/events/details/weekly-documentary-incl-in-admission-to-the-museum-spy-web-u-s-army-intelligence-01-15-2022-2286
END:VEVENT

END:VCALENDAR
