BEGIN:VCALENDAR
VERSION:2.0
PRODID:-//ChamberMaster//Event Calendar 2.0//EN
METHOD:PUBLISH
X-PUBLISHED-TTL:P3D
REFRESH-INTERVAL:P3D
CALSCALE:GREGORIAN
BEGIN:VEVENT
DTSTART:20220119T180000Z
DTEND:20220119T190000Z
X-MICROSOFT-CDO-ALLDAYEVENT:FALSE
SUMMARY:WEEKLY DOCUMENTARY (incl. in admission to the Museum)- Spy Web: The OSS
DESCRIPTION:Take a look inside America's Office of Strategic Services\, the famous U.S. World War II intelligence and sabotage agency (and precursor of the CIA) established by William J. Donovan.
X-ALT-DESC;FMTTYPE=text/html:Take a look inside America&#39\;s Office of Strategic Services\, the famous U.S. World War II intelligence and sabotage agency (and precursor of the CIA) established by William J. Donovan.
LOCATION:
UID:e.3611.2288
SEQUENCE:3
DTSTAMP:20260421T012450Z
URL:https://charlottecountychamber-gzcms.preview.gochambermaster.com/events/details/weekly-documentary-incl-in-admission-to-the-museum-spy-web-the-oss-01-19-2022-2288
END:VEVENT

END:VCALENDAR
