BEGIN:VCALENDAR
VERSION:2.0
PRODID:-//ChamberMaster//Event Calendar 2.0//EN
METHOD:PUBLISH
X-PUBLISHED-TTL:P3D
REFRESH-INTERVAL:P3D
CALSCALE:GREGORIAN
BEGIN:VEVENT
DTSTART:20220329T140000Z
DTEND:20220329T200000Z
X-MICROSOFT-CDO-ALLDAYEVENT:FALSE
SUMMARY:VIETNAM VETERANS WELCOME HOME EVENT
DESCRIPTION:A Day of Camaraderie and Entertainment!
X-ALT-DESC;FMTTYPE=text/html:&nbsp\; &nbsp\; A Day of Camaraderie and Entertainment!
LOCATION:
UID:e.3611.2620
SEQUENCE:3
DTSTAMP:20260421T000249Z
URL:https://charlottecountychamber-gzcms.preview.gochambermaster.com/events/details/vietnam-veterans-welcome-home-event-2620
END:VEVENT

END:VCALENDAR
