BEGIN:VCALENDAR
VERSION:2.0
PRODID:-//ChamberMaster//Event Calendar 2.0//EN
METHOD:PUBLISH
X-PUBLISHED-TTL:P3D
REFRESH-INTERVAL:P3D
CALSCALE:GREGORIAN
BEGIN:VEVENT
DTSTART:20200611T130000Z
DTEND:20200611T133000Z
X-MICROSOFT-CDO-ALLDAYEVENT:FALSE
SUMMARY:United Way of Charlotte County's Annual Campaign Celebration
DESCRIPTION:Join the United Way of Charlotte County on June 11\, 2020 9AM FaceBook Live for our Campaign Celebration! Help us celebrate the 2019-2020 Campaign! In lieu of our Annual Meeting this year\, we will be virtual. We'll recognize our Inaugural Campaign Cabinet\, VITA\, Volunteers\, Donors\, Sponsors\, and Partner Agencies who made our year a huge success! There will be awards and some fun surprises! So pour yourself a cup of your favorite beverage\, then join us from the comfort of your home or workplace.  See ya there!
X-ALT-DESC;FMTTYPE=text/html:Join the United Way of Charlotte County on <strong>June 11\, 2020 9AM FaceBook Live for our Campaign Celebration! </strong>Help us celebrate the 2019-2020 Campaign! In lieu of our Annual Meeting this year\, we will be virtual. We&rsquo\;ll recognize our Inaugural Campaign Cabinet\, VITA\, Volunteers\, Donors\, Sponsors\, and Partner Agencies who made our year a huge success! There will be awards and some fun surprises! So pour yourself a cup of your favorite beverage\, then join us from the comfort of your home or workplace.&nbsp\; See ya there!<br />\n&nbsp\;
LOCATION:Facebook Live
UID:e.3611.1030
SEQUENCE:3
DTSTAMP:20260424T165303Z
URL:https://charlottecountychamber-gzcms.preview.gochambermaster.com/events/details/united-way-of-charlotte-county-s-annual-campaign-celebration-1030
END:VEVENT

END:VCALENDAR
