BEGIN:VCALENDAR
VERSION:2.0
PRODID:-//ChamberMaster//Event Calendar 2.0//EN
METHOD:PUBLISH
X-PUBLISHED-TTL:P3D
REFRESH-INTERVAL:P3D
CALSCALE:GREGORIAN
BEGIN:VEVENT
DTSTART:20221029T220000Z
DTEND:20221030T000000Z
X-MICROSOFT-CDO-ALLDAYEVENT:FALSE
SUMMARY:Trunk Or Treat Spooktacular
DESCRIPTION:Join us for our annual trunk or treat event! We will have candy\, facepainting\, costumes\, etc! Our locale fire station will be joining us as well as Operation BBQ Relief with food! Hope to see you there!
X-ALT-DESC;FMTTYPE=text/html:Join us for our annual trunk or treat event! We will have candy\, facepainting\, costumes\, etc! Our locale fire station will be joining us as well as Operation BBQ Relief with food! Hope to see you there!
LOCATION:2705 Tamiami Tr Punta Gorda\, Fl 33980
UID:e.3611.3295
SEQUENCE:3
DTSTAMP:20260420T002540Z
URL:https://charlottecountychamber-gzcms.preview.gochambermaster.com/events/details/trunk-or-treat-spooktacular-10-29-2022-3295
END:VEVENT

END:VCALENDAR
