BEGIN:VCALENDAR
VERSION:2.0
PRODID:-//ChamberMaster//Event Calendar 2.0//EN
METHOD:PUBLISH
X-PUBLISHED-TTL:P3D
REFRESH-INTERVAL:P3D
CALSCALE:GREGORIAN
BEGIN:VEVENT
DTSTART:20220205T130000Z
DTEND:20220205T160000Z
X-MICROSOFT-CDO-ALLDAYEVENT:FALSE
SUMMARY:Trek for CHEC 5K/10K Trail Run and 1K Walk
DESCRIPTION:Click the link for information and to register for this amazing trail run \n\nhttps://runsignup.com/Race/FL/PuntaGorda/TrekforCHEC5K10K
X-ALT-DESC;FMTTYPE=text/html:<span style="font-size:14px">Click the link for information and to register for this amazing trail run&nbsp\;<br />\n<a href="https://runsignup.com/Race/FL/PuntaGorda/TrekforCHEC5K10K">https://runsignup.com/Race/FL/PuntaGorda/TrekforCHEC5K10K</a></span><br />\n<br />\n&nbsp\;
LOCATION:Charlotte Harbor Environmental Center\, 10941 Burnt Store Rd\, Punta Gorda\, FL US 33955
UID:e.3611.2553
SEQUENCE:3
DTSTAMP:20260421T012441Z
URL:https://charlottecountychamber-gzcms.preview.gochambermaster.com/events/details/trek-for-chec-5k-10k-trail-run-and-1k-walk-2553
END:VEVENT

END:VCALENDAR
