BEGIN:VCALENDAR
VERSION:2.0
PRODID:-//ChamberMaster//Event Calendar 2.0//EN
METHOD:PUBLISH
X-PUBLISHED-TTL:P3D
REFRESH-INTERVAL:P3D
CALSCALE:GREGORIAN
BEGIN:VEVENT
DTSTART:20221221T130000Z
DTEND:20221221T140000Z
X-MICROSOFT-CDO-ALLDAYEVENT:FALSE
SUMMARY:Third Wednesday Coffee - December 21\, 2022
DESCRIPTION:Join us for the Third Wednesday Coffee on December 21 at 8:00 a.m. at the Charlotte Harbor Event and Conference Center. \n\nOur Sponsor:  The Daily Sun \n\nOur Program:  Christmas Parade Awards\n\nWe think the "big man himself\, aka Santa" will help us hand out Trophies and congratulate the winners.\n\nYou will be sure to catch the holiday spirit!
X-ALT-DESC;FMTTYPE=text/html:Join us for the Third Wednesday Coffee on December 21 at 8:00 a.m. at the Charlotte Harbor Event and Conference Center.&nbsp\;<br />\n<strong>Our Sponsor:&nbsp\; The Daily Sun</strong>&nbsp\;<br />\n<strong>Our Program:&nbsp\; Christmas Parade Awards</strong><br />\nWe think the &quot\;big man himself\, aka Santa&quot\; will help us hand out Trophies and congratulate the winners.<br />\nYou will be sure to catch the holiday spirit!
LOCATION:Charlotte Harbor Event & Conference Center 75 Taylor St. Punta Gorda\, FL 33950
UID:e.3611.3319
SEQUENCE:3
DTSTAMP:20260419T211351Z
URL:https://charlottecountychamber-gzcms.preview.gochambermaster.com/events/details/third-wednesday-coffee-december-21-2022-3319
END:VEVENT

END:VCALENDAR
