BEGIN:VCALENDAR
VERSION:2.0
PRODID:-//ChamberMaster//Event Calendar 2.0//EN
METHOD:PUBLISH
X-PUBLISHED-TTL:P3D
REFRESH-INTERVAL:P3D
CALSCALE:GREGORIAN
BEGIN:VEVENT
DTSTART:20211113T163000Z
DTEND:20211113T180000Z
X-MICROSOFT-CDO-ALLDAYEVENT:FALSE
SUMMARY:The Apple Truck- Bringing a Bite Of Michigan To The South
DESCRIPTION:The Apple Truck is a Michigan-based "rolling" fruit truck that delivers fresh\, hand-picked Michigan apples to southern states that don't have access to our delicious fruit. MariAnn and Dale Apley are sixth-generation Michiganders\, who grew up enjoying fresh-picked Michigan apples. Now they want to bring the joy and excitement of biting into a fresh Michigan apple south with their Ann Arbor-based company\, The Apple Truck. Thanks to The Apple Truck\, southern states are finally getting the chance to have apples that are fresh\, non-GMO\, and grown on family-owned and operated farms. The Apple Truck is offering 20 lb (  bushel) boxes of apples with each box featuring two varieties of freshly picked apples from Michigan. The varieties selected all can be used for eating\, baking\, freezing\, canning\, juicing\, or sharing! Each box must be pre-ordered through The Apple Truck's official website\, www.theapple-truck.com. The Apple Truck Offers The Following Items Available For Preorder: 20-pound box of Michigan apples - $45   gallon of Honeycrisp Apple Cider - $7 The Special\, which is two boxes of apples and two   gallons of cider for $100 Depending on the crop and timing\, each box may include two of the following varieties of apples: Paula Red\, McIntosh\, Honeycrisp\, Jonathan\, Jonagold\, Rome\, Ida Red\, and Braeburn. For The Apple Truck's convenience please place your order in advance\, by visiting The Apple Truck website and finding your city stop. The order process will not be available when sold out and you must place your order 5 days prior to your stop. For more information\, visit www.theapple-truck.com.
X-ALT-DESC;FMTTYPE=text/html:The Apple Truck is a Michigan-based &ldquo\;rolling&rdquo\; fruit truck that delivers fresh\, hand-picked Michigan apples to southern states that don&rsquo\;t have access to our delicious fruit. MariAnn and Dale Apley are sixth-generation Michiganders\, who grew up enjoying fresh-picked Michigan apples. Now they want to bring the joy and excitement of biting into a fresh Michigan apple south with their Ann Arbor-based company\, The Apple Truck. Thanks to The Apple Truck\, southern states are finally getting the chance to have apples that are fresh\, non-GMO\, and grown on family-owned and operated farms. The Apple Truck is offering 20 lb (&frac12\; bushel) boxes of apples with each box featuring two varieties of freshly picked apples from Michigan. The varieties selected all can be used for eating\, baking\, freezing\, canning\, juicing\, or sharing! Each box must be pre-ordered through The Apple Truck&rsquo\;s official website\, www.theapple-truck.com. The Apple Truck Offers The Following Items Available For Preorder: 20-pound box of Michigan apples - $45 &frac12\; gallon of Honeycrisp Apple Cider - $7 The Special\, which is two boxes of apples and two &frac12\; gallons of cider for $100 Depending on the crop and timing\, each box may include two of the following varieties of apples: Paula Red\, McIntosh\, Honeycrisp\, Jonathan\, Jonagold\, Rome\, Ida Red\, and Braeburn. For The Apple Truck&rsquo\;s convenience please place your order in advance\, by visiting The Apple Truck website and finding your city stop. The order process will not be available when sold out and you must place your order 5 days prior to your stop. For more information\, visit www.theapple-truck.com.
LOCATION:Port Charlotte Town Center\, 1441 Tamiami Trail\, Port Charlotte\, FL 33948\, USA
UID:e.3611.2209
SEQUENCE:3
DTSTAMP:20260421T073031Z
URL:https://charlottecountychamber-gzcms.preview.gochambermaster.com/events/details/the-apple-truck-bringing-a-bite-of-michigan-to-the-south-2209
END:VEVENT

END:VCALENDAR
