BEGIN:VCALENDAR
VERSION:2.0
PRODID:-//ChamberMaster//Event Calendar 2.0//EN
METHOD:PUBLISH
X-PUBLISHED-TTL:P3D
REFRESH-INTERVAL:P3D
CALSCALE:GREGORIAN
BEGIN:VEVENT
DTSTART:20201023T130000Z
DTEND:20201023T163000Z
X-MICROSOFT-CDO-ALLDAYEVENT:FALSE
SUMMARY:TEAM Punta Gorda Food Drive
DESCRIPTION:From 9 am to 12:30 pm on October 23\, TEAM PG will be hosting a contact-less\, drive-through food drive to help stock the food pantry at St. Vincent de Paul in Punta Gorda. We are asking for donations of non-perishable food and dry goods to be brought to the parking lot of the Charlotte Community Foundation at 227 Sullivan St. in Punta Gorda. Enter the parking lot from Sullivan St and stay in your car. Volunteers will collect the donations from the trunk or back seat. There have been many demands on the food pantry this year. Let's make this food drive a big success. Collect from your friends and neighbors and bring in a carload! For more information contact team@teampuntagorda.org or 941-637-8326.
X-ALT-DESC;FMTTYPE=text/html:From 9 am to 12:30 pm on October 23\, TEAM PG will be hosting a contact-less\, drive-through food drive to help stock the food pantry at St. Vincent de Paul in Punta Gorda. We are asking for donations of non-perishable food and dry goods to be brought to the parking lot of the Charlotte Community Foundation at 227 Sullivan St. in Punta Gorda. Enter the parking lot from Sullivan St and stay in your car. Volunteers will collect the donations from the trunk or back seat. There have been many demands on the food pantry this year. Let&rsquo\;s make this food drive a big success. Collect from your friends and neighbors and bring in a carload! For more information contact team@teampuntagorda.org or 941-637-8326.
LOCATION:Charlotte Community Foundation parking lot 227 Sullivan St. Punta Gorda\, FL
UID:e.3611.1138
SEQUENCE:3
DTSTAMP:20260423T233557Z
URL:https://charlottecountychamber-gzcms.preview.gochambermaster.com/events/details/team-punta-gorda-food-drive-1138
END:VEVENT

END:VCALENDAR
