BEGIN:VCALENDAR
VERSION:2.0
PRODID:-//ChamberMaster//Event Calendar 2.0//EN
METHOD:PUBLISH
X-PUBLISHED-TTL:P3D
REFRESH-INTERVAL:P3D
CALSCALE:GREGORIAN
BEGIN:VEVENT
DTSTART:20220425T160000Z
DTEND:20220425T200000Z
X-MICROSOFT-CDO-ALLDAYEVENT:FALSE
SUMMARY:Senior Health & Wellness Expo
DESCRIPTION:Don't miss local health & wellness providers offering complementary screenings and educational materials. The Big Red Bus will be onsite from 1 to 4 pm to donate blood. Seaview 104.9 will be broadcasting live from 12 to 2 pm. Uncle Frank's Hot Dogs will be onsite serving up their delicious hot dogs and signature side dishes.\n\nLots of great vendors~ Free Giveaways and Raffles!
X-ALT-DESC;FMTTYPE=text/html:Don&rsquo\;t miss local health &amp\; wellness providers offering complementary screenings and educational materials. The Big Red Bus will be onsite from 1 to 4 pm to donate blood. Seaview 104.9 will be broadcasting live from 12 to 2 pm. Uncle Frank&rsquo\;s Hot Dogs will be onsite serving up their delicious hot dogs and signature side dishes.<br />\nLots of great vendors~ Free Giveaways and Raffles!<br />\n&nbsp\;
LOCATION:Parkside Assisted Living & Memory Cottage 2595 Harbor Blvd\, Port Charlotte
UID:e.3611.2991
SEQUENCE:3
DTSTAMP:20260420T193535Z
URL:https://charlottecountychamber-gzcms.preview.gochambermaster.com/events/details/senior-health-wellness-expo-2991
END:VEVENT

END:VCALENDAR
