BEGIN:VCALENDAR
VERSION:2.0
PRODID:-//ChamberMaster//Event Calendar 2.0//EN
METHOD:PUBLISH
X-PUBLISHED-TTL:P3D
REFRESH-INTERVAL:P3D
CALSCALE:GREGORIAN
BEGIN:VEVENT
DTSTART:20221101T213000Z
DTEND:20221101T220000Z
X-MICROSOFT-CDO-ALLDAYEVENT:FALSE
SUMMARY:Ribbon Cutting - Visual Arts Center
DESCRIPTION:Please join us in kicking off "Season of Art" at the Visual Arts Center.  Food\, Beverages\, Wine\, & a drawing will be held .
X-ALT-DESC;FMTTYPE=text/html:<span style="font-size:14px\;"><span style="font-family:arial\;">Please join us in kicking off &quot\;Season of Art&quot\; at the Visual Arts Center.&nbsp\; Food\, Beverages\, Wine\, &amp\; a drawing will be held .</span></span>
LOCATION:210 Maud Street\, Punta Gorda
UID:e.3611.3260
SEQUENCE:3
DTSTAMP:20260419T223336Z
URL:https://charlottecountychamber-gzcms.preview.gochambermaster.com/events/details/ribbon-cutting-visual-arts-center-3260
END:VEVENT

END:VCALENDAR
