BEGIN:VCALENDAR
VERSION:2.0
PRODID:-//ChamberMaster//Event Calendar 2.0//EN
METHOD:PUBLISH
X-PUBLISHED-TTL:P3D
REFRESH-INTERVAL:P3D
CALSCALE:GREGORIAN
BEGIN:VEVENT
DTSTART:20210714T213000Z
DTEND:20210714T233000Z
X-MICROSOFT-CDO-ALLDAYEVENT:FALSE
SUMMARY:Ribbon Cutting - Robin Carmichael\, ACC Cruise Planner
DESCRIPTION:Please join us in welcoming Robin Carmichael\, ACC Cruise Planners to the Charlotte County Chamber of Commerce.\n\nBe sure to stay after the ribbon cutting to continue the celebration with refreshments\, trivia\, and a special guest from Royal Caribbean.  We can't wait to see you there!
X-ALT-DESC;FMTTYPE=text/html:<p><span style="font-size:14px\;"><span style="font-family:arial\;">Please join us in welcoming Robin Carmichael\, ACC Cruise Planners to the Charlotte County Chamber of Commerce.</span></span></p>\n\n<p><span style="font-size:14px\;"><span style="font-family:arial\;">Be sure to stay after the ribbon cutting to continue the celebration with refreshments\, trivia\, and a special guest from Royal Caribbean.&nbsp\; We can&#39\;t wait to see you there!</span></span></p>\n\n<p><br />\n&nbsp\;</p>\n
LOCATION:Robin Carmichael\, ACC Cruise Planners 941 Tamiami Trail\, Suite A\, Port Charlotte
UID:e.3611.1694
SEQUENCE:3
DTSTAMP:20260422T173214Z
URL:https://charlottecountychamber-gzcms.preview.gochambermaster.com/events/details/ribbon-cutting-robin-carmichael-acc-cruise-planner-1694
END:VEVENT

END:VCALENDAR
