BEGIN:VCALENDAR
VERSION:2.0
PRODID:-//ChamberMaster//Event Calendar 2.0//EN
METHOD:PUBLISH
X-PUBLISHED-TTL:P3D
REFRESH-INTERVAL:P3D
CALSCALE:GREGORIAN
BEGIN:VEVENT
DTSTART:20230131T220000Z
DTEND:20230201T000000Z
X-MICROSOFT-CDO-ALLDAYEVENT:FALSE
SUMMARY:Ribbon Cutting - Open House - GJC Window & Door
DESCRIPTION:Please join us in welcoming GJC Window & Door at their Ribbon Cutting & Open House.  Refreshments and snacks will be served.
X-ALT-DESC;FMTTYPE=text/html:Please join us in welcoming GJC Window &amp\; Door at their Ribbon Cutting &amp\; Open House.&nbsp\; Refreshments and snacks will be served.
LOCATION:GJC Window & Door 812 Tamiami Trail Port Charlotte
UID:e.3611.3324
SEQUENCE:3
DTSTAMP:20260419T160628Z
URL:https://charlottecountychamber-gzcms.preview.gochambermaster.com/events/details/ribbon-cutting-open-house-gjc-window-door-3324
END:VEVENT

END:VCALENDAR
