BEGIN:VCALENDAR
VERSION:2.0
PRODID:-//ChamberMaster//Event Calendar 2.0//EN
METHOD:PUBLISH
X-PUBLISHED-TTL:P3D
REFRESH-INTERVAL:P3D
CALSCALE:GREGORIAN
BEGIN:VEVENT
DTSTART:20220524T213000Z
DTEND:20220524T220000Z
X-MICROSOFT-CDO-ALLDAYEVENT:FALSE
SUMMARY:Ribbon Cutting - New Management - Parkside Assisted Living & Memory Cottage
DESCRIPTION:Please join us in welcoming and congratulating the new management for Parkside Assisted Living & Memory Cottage. \n\nThe event will be Luau themed\, entertainment by Tiki Tom\, serving appetizers\, beer\, wine and water.
X-ALT-DESC;FMTTYPE=text/html:Please join us in welcoming and congratulating the new management for Parkside Assisted Living &amp\; Memory Cottage.&nbsp\;<br />\nThe event will be Luau themed\, entertainment by Tiki Tom\, serving appetizers\, beer\, wine and water.<br />\n&nbsp\;
LOCATION:Parkside Assisted Living & Memory Cottage 2595 Harbor Blvd. Port Charlotte\, FL
UID:e.3611.3103
SEQUENCE:3
DTSTAMP:20260420T224526Z
URL:https://charlottecountychamber-gzcms.preview.gochambermaster.com/events/details/ribbon-cutting-new-management-parkside-assisted-living-memory-cottage-3103
END:VEVENT

END:VCALENDAR
