BEGIN:VCALENDAR
VERSION:2.0
PRODID:-//ChamberMaster//Event Calendar 2.0//EN
METHOD:PUBLISH
X-PUBLISHED-TTL:P3D
REFRESH-INTERVAL:P3D
CALSCALE:GREGORIAN
BEGIN:VEVENT
DTSTART:20220323T140000Z
DTEND:20220324T023000Z
X-MICROSOFT-CDO-ALLDAYEVENT:FALSE
SUMMARY:Ribbon Cutting & Grand Opening - Essences Nail & Spa
DESCRIPTION:Please come out and help us welcome Essences Nail & Spa for their Ribbon Cutting & Grand Opening.
X-ALT-DESC;FMTTYPE=text/html:Please come out and help us welcome Essences Nail &amp\; Spa for their Ribbon Cutting &amp\; Grand Opening.
LOCATION:Essences Nail & Spa 19451 Cochran Blvd. Port Charlotte\, FL
UID:e.3611.2616
SEQUENCE:3
DTSTAMP:20260421T025846Z
URL:https://charlottecountychamber-gzcms.preview.gochambermaster.com/events/details/ribbon-cutting-grand-opening-essences-nail-spa-2616
END:VEVENT

END:VCALENDAR
