BEGIN:VCALENDAR
VERSION:2.0
PRODID:-//ChamberMaster//Event Calendar 2.0//EN
METHOD:PUBLISH
X-PUBLISHED-TTL:P3D
REFRESH-INTERVAL:P3D
CALSCALE:GREGORIAN
BEGIN:VEVENT
DTSTART:20210429T213000Z
DTEND:20210429T213000Z
X-MICROSOFT-CDO-ALLDAYEVENT:FALSE
SUMMARY:Ribbon Cutting - Goldstein\, Buckley\, Cechman\, Rice and Purtz Law
DESCRIPTION:Join us in welcoming Goldstein\, Buckley\, Cechman\, Rice and Purtz Law Firm as a new member to the Charlotte County Chamber of Commrece.
X-ALT-DESC;FMTTYPE=text/html:Join us in welcoming <span style="font-family:calibri\,sans-serif\;"><span style="font-size:11.0pt\;">Goldstein\, Buckley\, Cechman\, Rice and Purtz Law Firm </span></span>as a new member to the Charlotte County Chamber of Commrece.
LOCATION:Goldstein\, Buckley\, Cechman\, Rice and Purtz Law Firm 2602 Tamiami Trail\, Port Charlotte
UID:e.3611.1671
SEQUENCE:3
DTSTAMP:20260423T011621Z
URL:https://charlottecountychamber-gzcms.preview.gochambermaster.com/events/details/ribbon-cutting-goldstein-buckley-cechman-rice-and-purtz-law-1671
END:VEVENT

END:VCALENDAR
