BEGIN:VCALENDAR
VERSION:2.0
PRODID:-//ChamberMaster//Event Calendar 2.0//EN
METHOD:PUBLISH
X-PUBLISHED-TTL:P3D
REFRESH-INTERVAL:P3D
CALSCALE:GREGORIAN
BEGIN:VEVENT
DTSTART:20230111T223000Z
DTEND:20230111T233000Z
X-MICROSOFT-CDO-ALLDAYEVENT:FALSE
SUMMARY:Ribbon Cutting - FairyTail Rescue
DESCRIPTION:Please join the Charlotte County Chamber at a ribbon cutting for FairyTail Endings Rescue on Wednesday\, January 11\, 2023 at 5:30pm -   23212 Freedom Ave. Port Charlotte\, FL 33980 \nRefreshments and Tours of their facility.
X-ALT-DESC;FMTTYPE=text/html:Please join the Charlotte County Chamber at a ribbon cutting for&nbsp\;<span style="color: rgb(40\, 79\, 161)\; font-weight: bold\; font-family: Arial\, Verdana\, Helvetica\, sans-serif\; font-size: 14px\; text-align: center\; white-space: pre-wrap\;">FairyTail Endings Rescue on </span><span style="color: rgb(37\, 141\, 35)\; font-weight: bold\; font-family: Arial\, Verdana\, Helvetica\, sans-serif\; font-size: 14px\; text-align: center\; white-space: pre-wrap\;">Wednesday\, January 11\, 2023 at 5:30pm - </span><span style="color: rgb(40\, 79\, 161)\; font-family: Arial\, Verdana\, Helvetica\, sans-serif\; font-size: 14px\; text-align: center\; white-space: pre-wrap\;">&nbsp\;&nbsp\;23212 Freedom Ave. Port Charlotte\, FL 33980 </span>\n<p style="margin: 0px\; padding: 0px\; color: rgb(41\, 75\, 147)\; font-family: Arial\, Verdana\, Helvetica\, sans-serif\; font-size: 14px\; white-space: pre-wrap\; text-align: center\;"><span style="color: rgb(40\, 79\, 161)\;">Refreshments and Tours of their facility.</span></p>\n
LOCATION:FairyTail Endings Rescue 23212 Freedom Ave.\, Port Charlotte\, FL 33980
UID:e.3611.3302
SEQUENCE:3
DTSTAMP:20260419T194313Z
URL:https://charlottecountychamber-gzcms.preview.gochambermaster.com/events/details/ribbon-cutting-fairytail-rescue-3302
END:VEVENT

END:VCALENDAR
