BEGIN:VCALENDAR
VERSION:2.0
PRODID:-//ChamberMaster//Event Calendar 2.0//EN
METHOD:PUBLISH
X-PUBLISHED-TTL:P3D
REFRESH-INTERVAL:P3D
CALSCALE:GREGORIAN
BEGIN:VEVENT
DTSTART:20211203T150000Z
DTEND:20211204T220000Z
X-MICROSOFT-CDO-ALLDAYEVENT:FALSE
SUMMARY:Punta Gorda Garden Club's Holly Days Garden Tour\, “Christmas Dreams”
DESCRIPTION:Holly Days Garden Tour and Sale\n\nThe Punta Gorda Garden Club will host a tour of 6 special gardens in Punta Gorda and Port Charlotte from 10   5\, Dec. 3 & 4\, 2021.The event titled "Christmas Dreams\," will feature original handmade designs made from natural plant materials. Poinsettias and hand crafted artistic and decorative items will be for sale. Refreshments including homemade cookies offered.\n\nLocations and ticket information ($20): puntagordagardenclub@gmail.com\, www.pggc.org\, or the club's Facebook page.
X-ALT-DESC;FMTTYPE=text/html:<strong><span style="color:#26282A\;"><span style="font-family:helvetica\,sans-serif\;">Holly Days Garden Tour and Sale</span></span></strong><br />\n<span style="color:#26282A\;"><span style="font-family:helvetica\,sans-serif\;">The Punta Gorda Garden Club will host a tour of 6 special gardens in Punta Gorda and Port Charlotte<u><strong> from 10 &ndash\; 5\, Dec. 3 &amp\; 4\, 2021</strong></u>.The event titled &quot\;Christmas Dreams\,&quot\; will feature original handmade designs made from natural plant materials. Poinsettias and hand crafted artistic and decorative items will be for sale. Refreshments including homemade cookies offered.</span></span><br />\n<span style="color:#26282A\;"><span style="font-family:helvetica\,sans-serif\;">Locations and ticket information ($20): </span></span><u><span style="color:navy\;"><span style="font-family:helvetica\,sans-serif\;"><a href="mailto:puntagordagardenclub@gmail.com" target="_blank">puntagordagardenclub@gmail.com</a></span></span></u><span style="color:#26282A\;"><span style="font-family:helvetica\,sans-serif\;">\, </span></span><u><span style="color:navy\;"><span style="font-family:helvetica\,sans-serif\;"><a href="http://www.pggc.org/" target="_blank">www.pggc.org</a></span></span></u><span style="color:#26282A\;"><span style="font-family:helvetica\,sans-serif\;">\, or the club&#39\;s Facebook page.</span></span><br />\n&nbsp\;
LOCATION:
UID:e.3611.2210
SEQUENCE:3
DTSTAMP:20260421T042256Z
URL:https://charlottecountychamber-gzcms.preview.gochambermaster.com/events/details/punta-gorda-garden-club-s-holly-days-garden-tour-christmas-dreams-2210
END:VEVENT

END:VCALENDAR
