BEGIN:VCALENDAR
VERSION:2.0
PRODID:-//ChamberMaster//Event Calendar 2.0//EN
METHOD:PUBLISH
X-PUBLISHED-TTL:P3D
REFRESH-INTERVAL:P3D
CALSCALE:GREGORIAN
BEGIN:VEVENT
DTSTART:20221019T120000Z
DTEND:20221019T133000Z
X-MICROSOFT-CDO-ALLDAYEVENT:FALSE
SUMMARY:POSTPONED -Third Wednesday Coffee October 19\, 2022
DESCRIPTION:THIS EVENT IS POSTPONED - Join us on Wednesday\, October 19 at 8:00 a.m. for our Third Wednesday Coffee from 8"00 a.m. until 9:00 a.m. followed by our New Member Orientation.  This will take place at the Charlotte Harbor Event & Conference Center\, 75 Taylor Street\, Punta Gorda.  Come for coffee and a breakfast goodie and do a little networking before the program.
X-ALT-DESC;FMTTYPE=text/html:<span style="color:#B22222\;">THIS EVENT IS POSTPONED</span> - Join us on Wednesday\, October 19 at 8:00 a.m. for our Third Wednesday Coffee from 8&quot\;00 a.m. until 9:00 a.m. followed by our New Member Orientation.&nbsp\; This will take place at the Charlotte Harbor Event &amp\; Conference Center\, 75 Taylor Street\, Punta Gorda.&nbsp\; Come for coffee and a breakfast goodie and do a little networking before the program.
LOCATION:Charlotte Harbor Event and Conference Center 75 Taylor Street Punta Gorda\, FL 33950
UID:e.3611.3285
SEQUENCE:3
DTSTAMP:20260420T001348Z
URL:https://charlottecountychamber-gzcms.preview.gochambermaster.com/events/details/postponed-third-wednesday-coffee-october-19-2022-3285
END:VEVENT

END:VCALENDAR
