BEGIN:VCALENDAR
VERSION:2.0
PRODID:-//ChamberMaster//Event Calendar 2.0//EN
METHOD:PUBLISH
X-PUBLISHED-TTL:P3D
REFRESH-INTERVAL:P3D
CALSCALE:GREGORIAN
BEGIN:VEVENT
DTSTART:20220412T150000Z
DTEND:20220413T020000Z
X-MICROSOFT-CDO-ALLDAYEVENT:FALSE
SUMMARY:Pizza For A Cause
DESCRIPTION:Pizza Party on Tuesday\, April 12th (11am-10pm) at Bocca Lupo!! Dine in or Take Out! \n\nA portion of the proceeds will be going to Valerie's House-Charlotte County. \n\nValerie's House is a nonprofit organization that helps children and families work through the loss one together to go on to live fulfilling lives. Our vision is the no child grieves alone.
X-ALT-DESC;FMTTYPE=text/html:<span style="color:#0000FF"><strong>Pizza Party on Tuesday\, April 12th (11am-10pm) at Bocca Lupo!! Dine in or Take Out!&nbsp\;<br />\nA portion of the proceeds will be going to Valerie&#39\;s House-Charlotte County.&nbsp\;<br />\nValerie&#39\;s House is a nonprofit organization that helps children and families work through the loss one together to go on to live fulfilling lives. Our vision is the no child grieves alone.&nbsp\;</strong></span>
LOCATION:Port Charlotte 1900 Tamiami Trail Port Charlotte\, FL 33948 North Port 4301 Aidan Lane North Port\, FL 34287 West Villages 12105 Mercado Drive Venice\, FL 34293
UID:e.3611.2649
SEQUENCE:3
DTSTAMP:20260420T223108Z
URL:https://charlottecountychamber-gzcms.preview.gochambermaster.com/events/details/pizza-for-a-cause-2649
END:VEVENT

END:VCALENDAR
