BEGIN:VCALENDAR
VERSION:2.0
PRODID:-//ChamberMaster//Event Calendar 2.0//EN
METHOD:PUBLISH
X-PUBLISHED-TTL:P3D
REFRESH-INTERVAL:P3D
CALSCALE:GREGORIAN
BEGIN:VEVENT
DTSTART;VALUE=DATE:20221113
DTEND;VALUE=DATE:20221114
TRANSP:TRANSPARENT
X-MICROSOFT-CDO-ALLDAYEVENT:TRUE
SUMMARY:PicklePlex® of Punta Gorda Reopening Post Hurricane Ian
DESCRIPTION:Your PicklePlex  of Punta Gorda is reopening!!!\n\n \n\nThank you all for your patience! After suffering considerable damage\, the PicklePlex is ready for play. The courts are beautiful and you get to be the first to play on them   Sunday\, Nov. 13\, at 9 a.m. Following brief ceremonial acknowledgements\, as there are plenty of people to thank\, the courts will open for play.\n\n \n\nYour Social Events Team will also offer music and other games.  Come join us!\n\n \n\nNote: in order to play\, you must have a membership badge or day pass\, so be sure to sign up now on our website (pickleplex.org)\, as it takes up to 48 hours to produce a badge/pass. The Membership Team will be handing out badges and passes on Nov. 13 from 9-10 a.m. to those who register ahead.\n\n \n\nNOTE:  Tropical Storm Nicole could disrupt the plans so please check the website or CourtReserve if you are a PicklePlex member. For questions contact info@pickleplex.org.
X-ALT-DESC;FMTTYPE=text/html:<br />\n<strong>Your PicklePlex&reg\; of Punta Gorda is reopening!!!</strong><br />\n&nbsp\;<br />\nThank you all for your patience! After suffering considerable damage\, the PicklePlex is ready for play. The courts are beautiful and you get to be the first to play on them &ndash\; Sunday\, Nov. 13\, at 9 a.m. Following brief ceremonial acknowledgements\, as there are plenty of people to thank\, the courts will open for play.<br />\n&nbsp\;<br />\nYour Social Events Team will also offer music and other games.&nbsp\; Come join us!<br />\n&nbsp\;<br />\nNote: in order to play\, you must have a membership badge or day pass\, so be sure to sign up now on our website (pickleplex.org)\, as it takes up to 48 hours to produce a badge/pass. The Membership Team will be handing out badges and passes on Nov. 13 from 9-10 a.m. to those who register ahead.<br />\n&nbsp\;<br />\nNOTE:&nbsp\; Tropical Storm Nicole could disrupt the plans so please check the website or CourtReserve if you are a PicklePlex member. For questions contact <a href="mailto:info@pickleplex.org">info@pickleplex.org</a>.
LOCATION:Everyone is welcome - PicklePlex of Punta Gorda Directions - I-75 southbound take Exit 164 ( Hwy 17/ Duncan Road) go right toward Arcadia to Piper Road\, go right stay on piper until Airport Road\, go right\, at the end of the overpass of I-75 \, go right on Florida Street. The entrance to the PicklePlex area will be on the left across from the FSW sign. I-75 northbound take Exit 161 (N. Jones Loop) go right towards the Punta Gorda Airport. Take the first left past the I-75 entrance ramp\, Piper Road\, go left\, stay on piper until Airport Road\, go left\, at the end of the overpass of I-75\, go right on Florida Street. The entrance to the PicklePlex area will be on the left across from the FSW sign.
UID:e.3611.3306
SEQUENCE:3
DTSTAMP:20260420T002746Z
URL:https://charlottecountychamber-gzcms.preview.gochambermaster.com/events/details/pickleplex-of-punta-gorda-reopening-post-hurricane-ian-3306
END:VEVENT

END:VCALENDAR
