BEGIN:VCALENDAR
VERSION:2.0
PRODID:-//ChamberMaster//Event Calendar 2.0//EN
METHOD:PUBLISH
X-PUBLISHED-TTL:P3D
REFRESH-INTERVAL:P3D
CALSCALE:GREGORIAN
BEGIN:VEVENT
DTSTART:20211019T220000Z
DTEND:20211019T220000Z
X-MICROSOFT-CDO-ALLDAYEVENT:FALSE
SUMMARY:Passing of the Brushes
DESCRIPTION:Let's Welcome the New Artists to the Wyvern with the Passing of the Brushes Reception.\n\n \n\nThe public and members of the media are invited to an Artist's Reception of the Wyvern Art Exchange October 19 at 6:00 p.m. The reception is at the Wyvern Hotel\, located at 101 E Retta Esplanade in Punta Gorda. The event will showcase "Passing of the Brushes" from current exhibiting artists to the new exhibiting artists. The exhibit of VAC artists at the Wyvern is part of their community partnership. There is no better way to support the arts of Punta Gorda than to come to Passing of the Brushes and welcome the new artists of the Wyvern Hotel!
X-ALT-DESC;FMTTYPE=text/html:<span style="color:black\;"><span style="font-family:calibri\,sans-serif\;"><span style="font-size:11.0pt\;">Let&rsquo\;s Welcome the New Artists to the Wyvern with the Passing of the Brushes Reception.</span></span></span><br />\n&nbsp\;<br />\n<span style="color:#222222\;"><span style="font-family:arial\,sans-serif\;">The public and members of the media are invited to an Artist&rsquo\;s Reception of the Wyvern Art Exchange October 19 at 6:00 p.m. The reception is at the Wyvern Hotel\, located at</span></span>&nbsp\;<span style="color:#222222\;"><span style="font-family:arial\,sans-serif\;">101 E Retta Esplanade in Punta Gorda. The event will showcase &quot\;Passing of the Brushes&quot\; from current exhibiting artists to the new exhibiting artists. The exhibit of VAC artists at the Wyvern is part of their community partnership.&nbsp\;There is no better way to support the arts of Punta Gorda than to come to Passing of the Brushes and welcome the new artists of the Wyvern Hotel!</span></span><br />\n&nbsp\;
LOCATION:Wyvern Hotel 101 E Retta Esplanade Punta Gorda
UID:e.3611.2195
SEQUENCE:3
DTSTAMP:20260422T015104Z
URL:https://charlottecountychamber-gzcms.preview.gochambermaster.com/events/details/passing-of-the-brushes-2195
END:VEVENT

END:VCALENDAR
