BEGIN:VCALENDAR
VERSION:2.0
PRODID:-//ChamberMaster//Event Calendar 2.0//EN
METHOD:PUBLISH
X-PUBLISHED-TTL:P3D
REFRESH-INTERVAL:P3D
CALSCALE:GREGORIAN
BEGIN:VEVENT
DTSTART:20200506T140000Z
DTEND:20200506T190000Z
X-MICROSOFT-CDO-ALLDAYEVENT:FALSE
SUMMARY:OneBlood Blood Drive
DESCRIPTION:Charlotte County Chamber of Commerce\, Port Charlotte Office will be holding a blood drive. All donors will receive a FREE OneBlood T-Shirt\, a Check-fil-A card for a FREE chicken sandwich or 8-count nuggets\, and a wellness checkup including blood pressure\, temperature\, iron count\, pulse and cholesterol screening! To make an appointment\, please visit www.oneblood.org/donate-now and use sponsor code 59780. ID is required.
X-ALT-DESC;FMTTYPE=text/html:Charlotte County Chamber of Commerce\, Port Charlotte Office will be holding a blood drive. All donors will receive a FREE OneBlood T-Shirt\, a Check-fil-A card for a FREE chicken sandwich or 8-count nuggets\, and a wellness checkup including blood pressure\, temperature\, iron count\, pulse and cholesterol screening! To make an appointment\, please visit www.oneblood.org/donate-now and use sponsor code 59780. ID is required.
LOCATION:Charlotte County Chamber of Commerce\, 2702 Tamiami Trail\, Port Charlotte
UID:e.3611.1018
SEQUENCE:3
DTSTAMP:20260424T211311Z
URL:https://charlottecountychamber-gzcms.preview.gochambermaster.com/events/details/oneblood-blood-drive-1018
END:VEVENT

END:VCALENDAR
