BEGIN:VCALENDAR
VERSION:2.0
PRODID:-//ChamberMaster//Event Calendar 2.0//EN
METHOD:PUBLISH
X-PUBLISHED-TTL:P3D
REFRESH-INTERVAL:P3D
CALSCALE:GREGORIAN
BEGIN:VEVENT
DTSTART:20200824T133000Z
DTEND:20201002T200000Z
X-MICROSOFT-CDO-ALLDAYEVENT:FALSE
SUMMARY:North Port Art Center "Let the Colors Unfold" and "NPAC Instructor's" Showcase
DESCRIPTION:North Port Art Center will hold "Let the Colors Unfold" Exhibit and "NPAC Instructor's" Showcase August 24th thru October 2nd\, Monday thru Friday from 9:30 am - 4pm.  A virtual reception will be held September 11th from 6:30 - 8pm when winners will be announced.  The art center is located at 5950 Sam Shapos Way\, NP.  For additional information call (941)423-6460 or visit our website at www.northportartcenter.org.
X-ALT-DESC;FMTTYPE=text/html:North Port Art Center will hold &quot\;Let the Colors Unfold&quot\; Exhibit and &quot\;NPAC Instructor&#39\;s&quot\; Showcase August 24th thru October 2nd\, Monday thru Friday from 9:30 am - 4pm.&nbsp\; A virtual reception will be held September 11th from 6:30 - 8pm when winners will be announced.&nbsp\; The art center is located at 5950 Sam Shapos Way\, NP.&nbsp\; For additional information call (941)423-6460 or visit our website at www.northportartcenter.org.&nbsp\;&nbsp\;
LOCATION:5950 Sam Shapos Way\, North Port\, FL 34287
UID:e.3611.1104
SEQUENCE:3
DTSTAMP:20260424T021322Z
URL:https://charlottecountychamber-gzcms.preview.gochambermaster.com/events/details/north-port-art-center-let-the-colors-unfold-and-npac-instructor-s-showcase-1104
END:VEVENT

END:VCALENDAR
