BEGIN:VCALENDAR
VERSION:2.0
PRODID:-//ChamberMaster//Event Calendar 2.0//EN
METHOD:PUBLISH
X-PUBLISHED-TTL:P3D
REFRESH-INTERVAL:P3D
CALSCALE:GREGORIAN
BEGIN:VEVENT
DTSTART:20201014T160000Z
DTEND:20201014T170000Z
X-MICROSOFT-CDO-ALLDAYEVENT:FALSE
SUMMARY:Networking@Noon Oct. 14\, 2020 at Burg'r Bar
DESCRIPTION:Members networking event on October 14th at Burg'r Bar\,
X-ALT-DESC;FMTTYPE=text/html:Members networking event on October 14th at Burg&#39\;r Bar\,&nbsp\;
LOCATION:Burg'r Bar is located at 317 Tamiami Trail\, Punta Gorda\, FL.
UID:e.3611.1118
SEQUENCE:3
DTSTAMP:20260423T220824Z
URL:https://charlottecountychamber-gzcms.preview.gochambermaster.com/events/details/networking-noon-oct-14-2020-at-burg-r-bar-1118
END:VEVENT

END:VCALENDAR
