BEGIN:VCALENDAR
VERSION:2.0
PRODID:-//ChamberMaster//Event Calendar 2.0//EN
METHOD:PUBLISH
X-PUBLISHED-TTL:P3D
REFRESH-INTERVAL:P3D
CALSCALE:GREGORIAN
BEGIN:VEVENT
DTSTART:20211208T164500Z
DTEND:20211208T180000Z
X-MICROSOFT-CDO-ALLDAYEVENT:FALSE
SUMMARY:Networking @ Noon at Harbor Social on Dec. 8\, 2021
DESCRIPTION:Networking @ Noon:  Join us for a nice lunch and member networking event at Harbor Social located at 212 W. Marion Ave. in Punta Gorda on Wednesday\, December 8.  Lunch starts at noon\, please be a little early to check in.  Make your reservation with the link at the right.  Kindly limit your participation to no more than 2 people per member as space is limited.  Cost is $15pp. Choose your meal option from: \n\n\n	Banging Turkey Sandwich - honey maple turkey breast\, center cut bacon\, cranberry aioli\, and Swiss cheese on sourdough bread or\n	Blackened Chicken Caesar Wrap - blackened chicken breast\, romaine lettuce\, aged Parmesan\, and Caesar dressing in a flour tortilla or\n	Harbor Soul Salad - mixed greens\, cucumber\, carrot\, quinoa\, strawberries\, feta cheese\, and candied walnuts
X-ALT-DESC;FMTTYPE=text/html:<p><span style="font-size:14px\;"><span style="font-family:arial\;"><span style="font-size:16px\;"><span style="color:#0000FF\;"><strong>Networking @ Noon:</strong>&nbsp\;</span></span> Join us for a nice lunch and member networking event at <span style="color:#008080\;"><strong>Harbor Social located at&nbsp\;212 W. Marion Ave. in Punta Gorda</strong> </span>on Wednesday\, December 8.&nbsp\; Lunch starts at noon\, please be a little early to check in.&nbsp\; Make your reservation with the link at the right.&nbsp\; Kindly limit your participation to no more than 2 people per member as space is limited.&nbsp\; Cost is $15pp. Choose your meal option from:&nbsp\;</span></span></p>\n\n<ul>\n	<li style="color:black\;"><span style="font-size:14px\;"><span style="font-family:arial\;">Banging Turkey Sandwich - honey maple turkey breast\, center cut bacon\, cranberry aioli\, and Swiss cheese on sourdough bread or</span></span></li>\n	<li style="color:black\;"><span style="font-size:14px\;"><span style="font-family:arial\;">Blackened Chicken Caesar Wrap - blackened chicken breast\, romaine lettuce\, aged Parmesan\, and Caesar dressing in a flour tortilla or</span></span></li>\n	<li style="color:black\;"><span style="font-size:14px\;"><span style="font-family:arial\;">Harbor Soul Salad - mixed greens\, cucumber\, carrot\, quinoa\, strawberries\, feta cheese\, and candied walnuts</span></span></li>\n</ul>\n
LOCATION:Harbor Social 212 W. Marion Ave. Punta Gorda\, FL 33950
UID:e.3611.2226
SEQUENCE:3
DTSTAMP:20260421T055219Z
URL:https://charlottecountychamber-gzcms.preview.gochambermaster.com/events/details/networking-noon-at-harbor-social-on-dec-8-2021-2226
END:VEVENT

END:VCALENDAR
