BEGIN:VCALENDAR
VERSION:2.0
PRODID:-//ChamberMaster//Event Calendar 2.0//EN
METHOD:PUBLISH
X-PUBLISHED-TTL:P3D
REFRESH-INTERVAL:P3D
CALSCALE:GREGORIAN
BEGIN:VEVENT
DTSTART:20190711T040000Z
DTEND:20190815T040000Z
X-MICROSOFT-CDO-ALLDAYEVENT:FALSE
SUMMARY:Networking @ Leroy's Southern Kitchen & Bar\, 201 W Marion Ave\, Unit 116\, Punta Gorda - 08/14/12019
DESCRIPTION:Networking @  Leroy's Southern Kitchen & Bar\, 201 W Marion Ave\, Unit 116\, Punta Gorda - 08/14/12019
X-ALT-DESC;FMTTYPE=text/html:Networking @  Leroy's Southern Kitchen & Bar\, 201 W Marion Ave\, Unit 116\, Punta Gorda - 08/14/12019
LOCATION:Leroy's Southern Kitchen & Bar
UID:e.3611.851
SEQUENCE:3
DTSTAMP:20260425T141921Z
URL:https://charlottecountychamber-gzcms.preview.gochambermaster.com/events/details/networking-leroy-s-southern-kitchen-bar-201-w-marion-ave-unit-116-punta-gorda-08-14-12019-07-11-2019-851
END:VEVENT

END:VCALENDAR
