BEGIN:VCALENDAR
VERSION:2.0
PRODID:-//ChamberMaster//Event Calendar 2.0//EN
METHOD:PUBLISH
X-PUBLISHED-TTL:P3D
REFRESH-INTERVAL:P3D
CALSCALE:GREGORIAN
BEGIN:VEVENT
DTSTART:20190201T050000Z
DTEND:20190228T050000Z
X-MICROSOFT-CDO-ALLDAYEVENT:FALSE
SUMMARY:Networking @ Beef O'Brady's\, Punta Gorda - 02/13/2019
DESCRIPTION:Networking @ Beef O'Brady's\, Punta Gorda  - 02/13/2019
X-ALT-DESC;FMTTYPE=text/html:Networking @ Beef O'Brady's\, Punta Gorda  - 02/13/2019
LOCATION:Beef O'Brady's Punta Gorda
UID:e.3611.827
SEQUENCE:3
DTSTAMP:20260426T023906Z
URL:https://charlottecountychamber-gzcms.preview.gochambermaster.com/events/details/networking-beef-o-brady-s-punta-gorda-02-13-2019-02-01-2019-827
END:VEVENT

END:VCALENDAR
