BEGIN:VCALENDAR
VERSION:2.0
PRODID:-//ChamberMaster//Event Calendar 2.0//EN
METHOD:PUBLISH
X-PUBLISHED-TTL:P3D
REFRESH-INTERVAL:P3D
CALSCALE:GREGORIAN
BEGIN:VEVENT
DTSTART:20210512T154500Z
DTEND:20210512T170000Z
X-MICROSOFT-CDO-ALLDAYEVENT:FALSE
SUMMARY:Networking at Noon May 12\, 2021 at Dean's South of the Border
DESCRIPTION:Networking at Noon on May 12\, 2021 is at Dean's South of the Border. \n\nYou will need to choose a meal when you register for this event\, meal choices are listed here for your information.  Menu choices are final when reservations are submitted and may not be changed the day of the event.  All lunch choices are served with a non-alcoholic beverage.\n\n	Lunch Taco with rice & refried beans\n	Lunch Burrito with rice & refried beans\n	Lunch Chicken Sandwich with fries\n	Lunch Chicken Sandwich with coleslaw\n	Lunch Cheeseburger with fries (cooked medium).\n	Lunch Cheeseburger with coleslaw (cooked medium).\n	Lunch Chicken Caesar Salad
X-ALT-DESC;FMTTYPE=text/html:<span style="font-size:14px\;"><span style="font-size:16px\;"><span style="color:#008080\;"><strong>Networking at Noon on May 12\, 2021 is at Dean&#39\;s South of the Border.</strong></span>&nbsp\;</span><br />\n<strong>You will need to choose a meal when you register for this event\, meal choices are listed here for your information.&nbsp\;&nbsp\;<em><span style="color:red\;">Menu choices are final when reservations are submitted and may not be changed the day of the event.&nbsp\;&nbsp\;</span></em>All lunch choices are served with a non-alcoholic beverage.</strong></span>\n<ol>\n	<li style="color:#333333\;"><strong><span style="font-family:verdana\,sans-serif\;"><span style="font-size:10.0pt\;">Lunch Taco with rice &amp\; refried beans</span></span></strong></li>\n	<li style="color:#333333\;"><strong><span style="font-family:verdana\,sans-serif\;"><span style="font-size:10.0pt\;">Lunch Burrito with rice &amp\;&nbsp\;refried beans</span></span></strong></li>\n	<li style="color:#333333\;"><strong><span style="font-family:verdana\,sans-serif\;"><span style="font-size:10.0pt\;">Lunch Chicken Sandwich with fries</span></span></strong></li>\n	<li style="color:#333333\;"><strong><span style="font-family:verdana\,sans-serif\;"><span style="font-size:10.0pt\;">Lunch Chicken Sandwich with coleslaw</span></span></strong></li>\n	<li style="color:#333333\;"><strong><span style="font-family:verdana\,sans-serif\;"><span style="font-size:10.0pt\;">Lunch Cheeseburger with fries (cooked medium).</span></span></strong></li>\n	<li style="color:#333333\;"><strong><span style="font-family:verdana\,sans-serif\;"><span style="font-size:10.0pt\;">Lunch Cheeseburger with coleslaw (cooked medium).</span></span></strong></li>\n	<li style="color:#333333\;"><strong><span style="font-family:verdana\,sans-serif\;"><span style="font-size:10.0pt\;">Lunch Chicken Caesar Salad</span></span></strong></li>\n</ol>\n
LOCATION:
UID:e.3611.1598
SEQUENCE:3
DTSTAMP:20260422T233716Z
URL:https://charlottecountychamber-gzcms.preview.gochambermaster.com/events/details/networking-at-noon-may-12-2021-at-dean-s-south-of-the-border-1598
END:VEVENT

END:VCALENDAR
