BEGIN:VCALENDAR
VERSION:2.0
PRODID:-//ChamberMaster//Event Calendar 2.0//EN
METHOD:PUBLISH
X-PUBLISHED-TTL:P3D
REFRESH-INTERVAL:P3D
CALSCALE:GREGORIAN
BEGIN:VEVENT
DTSTART:20220309T164500Z
DTEND:20220309T180000Z
X-MICROSOFT-CDO-ALLDAYEVENT:FALSE
SUMMARY:Networking at Noon-March 9\, 2022-Charlotte Harbor Yacht Club
DESCRIPTION:Members\, join us for our monthly Networking at Noon Luncheon at the Charlotte Harbor Yacht Club on Wednesday\, March 9th.  Payment is due when you register\, cost is $15pp.\n\nRemember to choose your meal when you register for this event in the Member Portal.\n\n\n\nLunch Choices:\n\n\n	Apple Walnut Cranberry Salad mixed greens\, apples\, walnuts cranberries\, feta cheese\, grapes\, celery\, with apple vinaigrette\n	Chicken Quesadilla   flour tortilla grilled chicken\, cheddar jack cheese\, pico de gallo served with sour cream & Salsa\n	Corned Beef Rueben   corned beef on rye bread topped with sauerkraut\, swiss cheese\, and thousand island dressing served w/ sweet potatoe fries
X-ALT-DESC;FMTTYPE=text/html:<p><span style="font-size:16px\;"><span style="color:#0000CD\;">Members\, join us for our monthly <strong>Networking at Noon</strong> Luncheon at the Charlotte Harbor Yacht Club on Wednesday\, March 9th.&nbsp\; Payment is due when you register\, cost is $15pp.</span></span></p>\n\n<p><span style="font-size:16px\;"><span style="color:#0000CD\;">Remember to choose your meal when you register for this event in the Member Portal.<br />\n<br />\nLunch Choices:</span></span></p>\n\n<ul style="list-style-type:circle\;">\n	<li><span style="font-size:14px\;"><span style="font-family:arial\;"><u>Apple Walnut Cranberry Salad</u> mixed greens\, apples\, walnuts cranberries\,&nbsp\;feta cheese\, grapes\, celery\, with apple vinaigrette</span></span></li>\n	<li><span style="font-size:14px\;"><span style="font-family:arial\;"><u>Chicken Quesadilla</u> &ndash\; flour tortilla grilled chicken\, cheddar jack cheese\,&nbsp\;pico de gallo served with sour cream &amp\; Salsa</span></span></li>\n	<li><span style="font-size:14px\;"><span style="font-family:arial\;"><u>Corned Beef Rueben</u> &ndash\; corned beef on rye bread topped with sauerkraut\,&nbsp\;swiss cheese\, and thousand island dressing served w/ sweet potatoe fries</span></span></li>\n</ul>\n
LOCATION:Charlotte Harbor Yacht Club 4400 Lister St. Port Charlotte\, FL 33952
UID:e.3611.2580
SEQUENCE:3
DTSTAMP:20260421T025352Z
URL:https://charlottecountychamber-gzcms.preview.gochambermaster.com/events/details/networking-at-noon-march-9-2022-charlotte-harbor-yacht-club-2580
END:VEVENT

END:VCALENDAR
