BEGIN:VCALENDAR
VERSION:2.0
PRODID:-//ChamberMaster//Event Calendar 2.0//EN
METHOD:PUBLISH
X-PUBLISHED-TTL:P3D
REFRESH-INTERVAL:P3D
CALSCALE:GREGORIAN
BEGIN:VEVENT
DTSTART:20210310T164500Z
DTEND:20210310T180000Z
X-MICROSOFT-CDO-ALLDAYEVENT:FALSE
SUMMARY:Networking at Noon March 10\, 2021 at Leroy's Southern Kitchen
DESCRIPTION:Members Networking at Noon on March 10\, 2021 is at Leroy's Southern Kitchen and Bar\, 201 W. Marion Ave.\, Unit 116\, Punta Gorda.  Cost is $15pp.  Please be a few minutes early to check in.  There will be food choices to make when you register online.  You may choose from:\n\nFried Chicken with collards\, mashed potatoes and country gravy.\n\nMomma's Meatloaf with mashed potatoes and collards.\n\nA choice of Caesar or chopped salad with or without chicken.\n\nSeating is limited\, please only one or two persons per member.
X-ALT-DESC;FMTTYPE=text/html:<p><span style="font-size:14px\;">Members <strong>Networking at Noon</strong> on March 10\, 2021 is at Leroy&#39\;s Southern Kitchen and Bar\, 201 W. Marion Ave.\, Unit 116\, Punta Gorda.&nbsp\; Cost is $15pp.&nbsp\; Please be a few minutes early to check in.&nbsp\; There will be food choices to make when you register online.&nbsp\; You may choose from:</span></p>\n\n<p><span style="font-size:14px\;">Fried Chicken with collards\, mashed potatoes and country gravy.<br />\nMomma&#39\;s Meatloaf with mashed potatoes and collards.<br />\nA choice of Caesar&nbsp\;or chopped salad with or without chicken.</span></p>\n\n<p><span style="font-size: 14px\;">Seating is limited\, please only one or two persons per member.</span><br />\n&nbsp\;</p>\n
LOCATION:
UID:e.3611.1604
SEQUENCE:3
DTSTAMP:20260423T023931Z
URL:https://charlottecountychamber-gzcms.preview.gochambermaster.com/events/details/networking-at-noon-march-10-2021-at-leroy-s-southern-kitchen-1604
END:VEVENT

END:VCALENDAR
