BEGIN:VCALENDAR
VERSION:2.0
PRODID:-//ChamberMaster//Event Calendar 2.0//EN
METHOD:PUBLISH
X-PUBLISHED-TTL:P3D
REFRESH-INTERVAL:P3D
CALSCALE:GREGORIAN
BEGIN:VEVENT
DTSTART:20220305T130000Z
DTEND:20220305T170500Z
X-MICROSOFT-CDO-ALLDAYEVENT:FALSE
SUMMARY:Manatee FitFEST 5K
DESCRIPTION:https://runsignup.com/Race/FL/Bradenton/ManateeFitfest
X-ALT-DESC;FMTTYPE=text/html:<a href="https://runsignup.com/Race/FL/Bradenton/ManateeFitfest">https://runsignup.com/Race/FL/Bradenton/ManateeFitfest</a>
LOCATION:
UID:e.3611.2581
SEQUENCE:3
DTSTAMP:20260421T030339Z
URL:https://charlottecountychamber-gzcms.preview.gochambermaster.com/events/details/manatee-fitfest-5k-2581
END:VEVENT

END:VCALENDAR
