BEGIN:VCALENDAR
VERSION:2.0
PRODID:-//ChamberMaster//Event Calendar 2.0//EN
METHOD:PUBLISH
X-PUBLISHED-TTL:P3D
REFRESH-INTERVAL:P3D
CALSCALE:GREGORIAN
BEGIN:VEVENT
DTSTART:20230117T164500Z
DTEND:20230117T180000Z
X-MICROSOFT-CDO-ALLDAYEVENT:FALSE
SUMMARY:Lunch & Learn Jan. 17\, 2023 - Understanding Your Insurance Policy
DESCRIPTION:Lunch & Learn\, on Tuesday\, January 17\, at the Charlotte County Chamber office\, 2702 Tamiami Trail\, Port Charlotte. \n\nTopic: Understanding Your Insurance Policy. (Homeowners and Auto)\n\nPresenter: Mike Martin\, State Farm Insurance Mike Martin Agency. \n\nCost $10pp includes lunch\, either an Italian or Turkey & Cheddar sandwich\, chips\, cookie and a beverage. Please Register in the Member Portal.
X-ALT-DESC;FMTTYPE=text/html:<span style="font-size:16px\;"><span style="font-family: Arial\, Verdana\, Helvetica\, sans-serif\; white-space: pre-wrap\; color: rgb(40\, 79\, 161)\; font-weight: bold\;">Lunch &amp\; Learn\,</span><span style="font-family: Arial\, Verdana\, Helvetica\, sans-serif\; white-space: pre-wrap\; color: rgb(40\, 79\, 161)\;"> on Tuesday\, January 17\, at the Charlotte County Chamber office\, 2702 Tamiami Trail\, Port Charlotte. </span><br />\n<span style="font-family: Arial\, Verdana\, Helvetica\, sans-serif\; white-space: pre-wrap\; color: rgb(37\, 141\, 35)\; font-weight: bold\;">Topic: Understanding Your Insurance Policy.</span><strong><span style="font-family: Arial\, Verdana\, Helvetica\, sans-serif\; white-space: pre-wrap\; color: rgb(40\, 79\, 161)\;"> (Homeowners and Auto)</span></strong><br />\n<span style="color:#8B4513\;"><span style="font-family: Arial\, Verdana\, Helvetica\, sans-serif\; white-space: pre-wrap\;"><strong>Presenter: Mike Martin\, State Farm Insurance Mike Martin Agency. </strong></span></span><br />\n<span style="font-family: Arial\, Verdana\, Helvetica\, sans-serif\; white-space: pre-wrap\; color: rgb(40\, 79\, 161)\;">Cost $10pp includes lunch\, either an Italian or Turkey &amp\; Cheddar sandwich\, chips\, cookie and a beverage. Please Register in the Member Portal.</span></span>
LOCATION:Charlotte County Chamber of Commerce 2702 Tamiami Trail Port Charlotte\, FL 33952
UID:e.3611.3314
SEQUENCE:3
DTSTAMP:20260419T192944Z
URL:https://charlottecountychamber-gzcms.preview.gochambermaster.com/events/details/lunch-learn-jan-17-2023-understanding-your-insurance-policy-3314
END:VEVENT

END:VCALENDAR
