BEGIN:VCALENDAR
VERSION:2.0
PRODID:-//ChamberMaster//Event Calendar 2.0//EN
METHOD:PUBLISH
X-PUBLISHED-TTL:P3D
REFRESH-INTERVAL:P3D
CALSCALE:GREGORIAN
BEGIN:VEVENT
DTSTART:20210514T230000Z
DTEND:20210515T020000Z
X-MICROSOFT-CDO-ALLDAYEVENT:FALSE
SUMMARY:Live Entertainment - Gilded Grape Wine Bar
DESCRIPTION:Steve Widmeyer  One Voice\, One Guitar
X-ALT-DESC;FMTTYPE=text/html:Steve Widmeyer&nbsp\; One Voice\, One Guitar
LOCATION:Gilded Grape Wine Bar 3796 Tamiami Trail\, Port Charlotte
UID:e.3611.1685
SEQUENCE:3
DTSTAMP:20260422T232412Z
URL:https://charlottecountychamber-gzcms.preview.gochambermaster.com/events/details/live-entertainment-gilded-grape-wine-bar-05-14-2021-1685
END:VEVENT

END:VCALENDAR
