BEGIN:VCALENDAR
VERSION:2.0
PRODID:-//ChamberMaster//Event Calendar 2.0//EN
METHOD:PUBLISH
X-PUBLISHED-TTL:P3D
REFRESH-INTERVAL:P3D
CALSCALE:GREGORIAN
BEGIN:VEVENT
DTSTART:20210330T210000Z
DTEND:20210330T220000Z
X-MICROSOFT-CDO-ALLDAYEVENT:FALSE
SUMMARY:Let's Spring into Magic
DESCRIPTION:In the month of March\, Area Agency on Aging for Southwest Florida is inviting older adults and their families to come together over zoom and explore the "Mysteries of the Mind" with celebrity magician and mentalist Paul Draper.
X-ALT-DESC;FMTTYPE=text/html:In the month of March\, Area Agency on Aging for Southwest Florida is inviting older adults and their families to come together over zoom and explore the &quot\;Mysteries of the Mind&quot\; with celebrity magician and mentalist Paul Draper.
LOCATION:VIRTUAL EVENT: https://us02web.zoom.us/meeting/register/tZ0lf-6vrDovGNMiTqk8gMDOCztwbkEChXfR 2830 Winkler Ave Suite 112\, Fort Myers\, FL 33916
UID:e.3611.1651
SEQUENCE:3
DTSTAMP:20260423T023639Z
URL:https://charlottecountychamber-gzcms.preview.gochambermaster.com/events/details/let-s-spring-into-magic-03-30-2021-1651
END:VEVENT

END:VCALENDAR
