BEGIN:VCALENDAR
VERSION:2.0
PRODID:-//ChamberMaster//Event Calendar 2.0//EN
METHOD:PUBLISH
X-PUBLISHED-TTL:P3D
REFRESH-INTERVAL:P3D
CALSCALE:GREGORIAN
BEGIN:VEVENT
DTSTART:20211204T180000Z
DTEND:20211204T190000Z
X-MICROSOFT-CDO-ALLDAYEVENT:FALSE
SUMMARY:JOY HEALTH HOPE LECTURE
DESCRIPTION:Finding joy\, health\, hope for all! Christian Science lecture by National Speaker\, Steven Salt. Free at the VENICE COMMUNITY CENTER\, 326 S. Nokomis Ave in Venice. Uplifting lecture. Open to all!
X-ALT-DESC;FMTTYPE=text/html:Finding joy\, health\, hope for all! Christian Science lecture by National Speaker\, Steven Salt. Free at the VENICE COMMUNITY CENTER\, 326 S. Nokomis Ave in Venice. Uplifting lecture. Open to all!
LOCATION:326 S Nokomis Ave Venice\, FL
UID:e.3611.2223
SEQUENCE:3
DTSTAMP:20260421T055145Z
URL:https://charlottecountychamber-gzcms.preview.gochambermaster.com/events/details/joy-health-hope-lecture-2223
END:VEVENT

END:VCALENDAR
