BEGIN:VCALENDAR
VERSION:2.0
PRODID:-//ChamberMaster//Event Calendar 2.0//EN
METHOD:PUBLISH
X-PUBLISHED-TTL:P3D
REFRESH-INTERVAL:P3D
CALSCALE:GREGORIAN
BEGIN:VEVENT
DTSTART:20230210T003000Z
DTEND:20230226T190000Z
X-MICROSOFT-CDO-ALLDAYEVENT:FALSE
SUMMARY:How the Other Half Loves
DESCRIPTION:There are three couples in this play\, the men all working for the same firm. One of the younger men is having an affair with the wife of the oldest\, and when each returns home suspiciously late one night or early one morning they invent a story about having to spend some time smoothing domestic matters in the home of the third couple. Of course\, the third couple have to show up to put the fat in the fire\, but that complication only adds to the fun of this famous farce. For ticket information contact the Charlotte Players Box Office at 941-255-1022 or visit in person Monday through Friday from 10-4 at 1182 Market Circle in Port Charlotte.
X-ALT-DESC;FMTTYPE=text/html:There are three couples in this play\, the men all working for the same firm. One of the younger men is having an affair with the wife of the oldest\, and when each returns home suspiciously late one night or early one morning they invent a story about having to spend some time smoothing domestic matters in the home of the third couple. Of course\, the third couple have to show up to put the fat in the fire\, but that complication only adds to the fun of this famous farce. For ticket information contact the Charlotte Players Box Office at 941-255-1022 or visit in person Monday through Friday from 10-4 at 1182 Market Circle in Port Charlotte.
LOCATION:Langdon Playhouse 1182 Market Circle Port Charlotte\, FL 33948
UID:e.3611.3367
SEQUENCE:3
DTSTAMP:20260419T120420Z
URL:https://charlottecountychamber-gzcms.preview.gochambermaster.com/events/details/how-the-other-half-loves-3367
END:VEVENT

END:VCALENDAR
