BEGIN:VCALENDAR
VERSION:2.0
PRODID:-//ChamberMaster//Event Calendar 2.0//EN
METHOD:PUBLISH
X-PUBLISHED-TTL:P3D
REFRESH-INTERVAL:P3D
CALSCALE:GREGORIAN
BEGIN:VEVENT
DTSTART:20220215T223000Z
DTEND:20220215T230000Z
X-MICROSOFT-CDO-ALLDAYEVENT:FALSE
SUMMARY:Grand Opening\, Ribbon Cutting - Sports Clips Haircuts
DESCRIPTION:Please join us in welcoming Sport Clips Haircuts to the Chamber.  They will be also be celebrating their grand opening!
X-ALT-DESC;FMTTYPE=text/html:Please join us in welcoming Sport Clips Haircuts to the Chamber.&nbsp\; They will be also be celebrating their grand opening!
LOCATION:Sports Clips Haircuts 1804 Tamiami Trail\, Unite E4 Port Charlotte\, FL
UID:e.3611.2565
SEQUENCE:3
DTSTAMP:20260420T234954Z
URL:https://charlottecountychamber-gzcms.preview.gochambermaster.com/events/details/grand-opening-ribbon-cutting-sports-clips-haircuts-2565
END:VEVENT

END:VCALENDAR
