BEGIN:VCALENDAR
VERSION:2.0
PRODID:-//ChamberMaster//Event Calendar 2.0//EN
METHOD:PUBLISH
X-PUBLISHED-TTL:P3D
REFRESH-INTERVAL:P3D
CALSCALE:GREGORIAN
BEGIN:VEVENT
DTSTART:20220319T200000Z
DTEND:20220320T020000Z
X-MICROSOFT-CDO-ALLDAYEVENT:FALSE
SUMMARY:Grand Opening/Ribbon Cutting - M'Xuma Tacos\, Mexican Grill
DESCRIPTION:Please help us welcome M'Xuma Tacos\, Mexican Grill at their Grand Opening & Ribbon Cutting with the Charlotte County Chamber.  There will be a Mariachi Band\, DJ\, Snacks\, Cake & Giveaways from 4:00 pm - 10:00 pm.  Ribbon Cutting will be at 4:00 to kick of the festivities.
X-ALT-DESC;FMTTYPE=text/html:Please help us welcome M&#39\;Xuma Tacos\, Mexican Grill at their Grand Opening &amp\; Ribbon Cutting with the Charlotte County Chamber.&nbsp\; There will be a Mariachi Band\, DJ\, Snacks\, Cake &amp\; Giveaways from 4:00 pm - 10:00 pm.&nbsp\; Ribbon Cutting will be at 4:00 to kick of the festivities.
LOCATION:M'Xuma Tacos\, Mexican Grill 42091 Cypress Parkway\, Suite 9 Punta Gorda\, FL 33982 (Babock Ranch)
UID:e.3611.2867
SEQUENCE:3
DTSTAMP:20260420T205411Z
URL:https://charlottecountychamber-gzcms.preview.gochambermaster.com/events/details/grand-opening-ribbon-cutting-m-xuma-tacos-mexican-grill-2867
END:VEVENT

END:VCALENDAR
