BEGIN:VCALENDAR
VERSION:2.0
PRODID:-//ChamberMaster//Event Calendar 2.0//EN
METHOD:PUBLISH
X-PUBLISHED-TTL:P3D
REFRESH-INTERVAL:P3D
CALSCALE:GREGORIAN
BEGIN:VEVENT
DTSTART:20220405T213000Z
DTEND:20220405T220000Z
X-MICROSOFT-CDO-ALLDAYEVENT:FALSE
SUMMARY:Grand Opening/Ribbon Cutting - Bliss Nail Bar
DESCRIPTION:Please join us in welcoming Bliss Nail Bar at their Ribbon Cutting/Grand Opening.
X-ALT-DESC;FMTTYPE=text/html:Please join us in welcoming Bliss Nail Bar at their Ribbon Cutting/Grand Opening.
LOCATION:Bliss Nail Bar 24430 Sandhill Blvd.\, Ste 304-305 Punta Gorda\, FL 33983
UID:e.3611.2983
SEQUENCE:3
DTSTAMP:20260420T180905Z
URL:https://charlottecountychamber-gzcms.preview.gochambermaster.com/events/details/grand-opening-ribbon-cutting-bliss-nail-bar-2983
END:VEVENT

END:VCALENDAR
