BEGIN:VCALENDAR
VERSION:2.0
PRODID:-//ChamberMaster//Event Calendar 2.0//EN
METHOD:PUBLISH
X-PUBLISHED-TTL:P3D
REFRESH-INTERVAL:P3D
CALSCALE:GREGORIAN
BEGIN:VEVENT
DTSTART:20230207T140000Z
DTEND:20230207T143000Z
X-MICROSOFT-CDO-ALLDAYEVENT:FALSE
SUMMARY:Grand Opening - New Location - Culver's Punta Gorda
DESCRIPTION:Come out to Culver's Grand Opening to celebrate their new location in Punta Gorda.
X-ALT-DESC;FMTTYPE=text/html:Come out to Culver&#39\;s Grand Opening to celebrate their new location in Punta Gorda.
LOCATION:Culvers of Punta Gorda 26440 Jones Loop Rd. Punta Gorda\, FL
UID:e.3611.3331
SEQUENCE:3
DTSTAMP:20260419T175102Z
URL:https://charlottecountychamber-gzcms.preview.gochambermaster.com/events/details/grand-opening-new-location-culver-s-punta-gorda-3331
END:VEVENT

END:VCALENDAR
