BEGIN:VCALENDAR
VERSION:2.0
PRODID:-//ChamberMaster//Event Calendar 2.0//EN
METHOD:PUBLISH
X-PUBLISHED-TTL:P3D
REFRESH-INTERVAL:P3D
CALSCALE:GREGORIAN
BEGIN:VEVENT
DTSTART:20200917T214500Z
DTEND:20200918T000000Z
X-MICROSOFT-CDO-ALLDAYEVENT:FALSE
SUMMARY:Gator Wilderness Camp School Banquet
DESCRIPTION:Join us for an awesome evening of learning about Gator Wilderness Camp School while enjoying a great meal and singing from our boys. Seating will be limited due to COVID 19.
X-ALT-DESC;FMTTYPE=text/html:<h2 style="font-style:italic"><span style="font-size:12px">Join us for an awesome evening of learning about Gator Wilderness Camp School while enjoying a great meal and singing from our boys. Seating will be limited due to COVID 19.</span></h2>\n
LOCATION:Carlisle Inn & Conference Center Sarasota 3727 Bahia Vista Street Sarasota\, FL 34232
UID:e.3611.1105
SEQUENCE:3
DTSTAMP:20260423T233335Z
URL:https://charlottecountychamber-gzcms.preview.gochambermaster.com/events/details/gator-wilderness-camp-school-banquet-1105
END:VEVENT

END:VCALENDAR
