BEGIN:VCALENDAR
VERSION:2.0
PRODID:-//ChamberMaster//Event Calendar 2.0//EN
METHOD:PUBLISH
X-PUBLISHED-TTL:P3D
REFRESH-INTERVAL:P3D
CALSCALE:GREGORIAN
BEGIN:VEVENT
DTSTART:20211017T130000Z
DTEND:20211017T200000Z
X-MICROSOFT-CDO-ALLDAYEVENT:FALSE
SUMMARY:Florida International Air Show
DESCRIPTION:Come out and enjoy the Florida International Air Show!  Gates open at 9:00 am and the show begins at noon.  Featuring F-16 Viper Demo Team\, SOCOM Para Jump Team\, Patty Wagstaff\, ChefPitts\, Jim Pietz\, Beechcraft Bonanza\, Scott Farnsworth-s-211 Marchetti Jet\, Commemorative Air Force - The Douglas SB-5 & The FG-1D Corsair\, Matt Jolley Air Show Announcer and a Kids Zone.\n\n\n\nAir Show Hot Line 833-743-3427 - Buy your tickets online today! www.FloridaAirShow.com
X-ALT-DESC;FMTTYPE=text/html:Come out and enjoy the Florida International Air Show!&nbsp\; Gates open at 9:00 am and the show begins at noon.&nbsp\; Featuring F-16 Viper Demo Team\, SOCOM Para Jump Team\, Patty Wagstaff\, ChefPitts\, Jim Pietz\, Beechcraft Bonanza\, Scott Farnsworth-s-211 Marchetti Jet\, Commemorative Air Force - The Douglas SB-5 &amp\; The FG-1D Corsair\, Matt Jolley Air Show Announcer and a Kids Zone.<br />\n<br />\nAir Show Hot Line 833-743-3427 - Buy your tickets online today! <a href="http://www.FloridaAirShow.com">www.FloridaAirShow.com</a><br />\n&nbsp\;
LOCATION:Punta Gorda Airport 28000 A-1 Airport Road Punta Gorda\, FL
UID:e.3611.2194
SEQUENCE:3
DTSTAMP:20260421T184712Z
URL:https://charlottecountychamber-gzcms.preview.gochambermaster.com/events/details/florida-international-air-show-2194
END:VEVENT

END:VCALENDAR
