BEGIN:VCALENDAR
VERSION:2.0
PRODID:-//ChamberMaster//Event Calendar 2.0//EN
METHOD:PUBLISH
X-PUBLISHED-TTL:P3D
REFRESH-INTERVAL:P3D
CALSCALE:GREGORIAN
BEGIN:VEVENT
DTSTART:20210506T210000Z
DTEND:20210506T230000Z
X-MICROSOFT-CDO-ALLDAYEVENT:FALSE
SUMMARY:Divine Global Recovery - Mother Nature Art Contest
DESCRIPTION:What do you think a family friendly image of Mother Nature would look like? \n\nEntries can be a painting\, drawing\, or photo no larger than 11 1/2 X 17 and must be dropped off at PG Social House by 5 pm on May 5th.\n\n\n\nMust be 12 and over to enter the contest.  Prizes will be given to 1st\, 2nd\, and 3rd Place and all participants must be present to win.\n\n\n\nDivine Global Recover is a non-profit organization dedicated to helping families in a desperate situation after a natural disaster.
X-ALT-DESC;FMTTYPE=text/html:What do you think a family friendly image of Mother Nature would look like?&nbsp\;<br />\nEntries can be a painting\, drawing\, or photo no larger than 11 1/2 X 17 and must be dropped off at PG Social House by 5 pm on May 5th.<br />\n<br />\nMust be 12 and over to enter the contest.&nbsp\; Prizes will be given to 1st\, 2nd\, and 3rd Place and all participants must be present to win.<br />\n<br />\nDivine Global Recover is a non-profit organization dedicated to helping families in a desperate situation after a natural disaster.
LOCATION:PG Social House 124 Cross Street\, Punta Gorda\, FL
UID:e.3611.1670
SEQUENCE:3
DTSTAMP:20260422T233716Z
URL:https://charlottecountychamber-gzcms.preview.gochambermaster.com/events/details/divine-global-recovery-mother-nature-art-contest-1670
END:VEVENT

END:VCALENDAR
