BEGIN:VCALENDAR
VERSION:2.0
PRODID:-//ChamberMaster//Event Calendar 2.0//EN
METHOD:PUBLISH
X-PUBLISHED-TTL:P3D
REFRESH-INTERVAL:P3D
CALSCALE:GREGORIAN
BEGIN:VEVENT
DTSTART:20200919T220000Z
DTEND:20200919T220000Z
X-MICROSOFT-CDO-ALLDAYEVENT:FALSE
SUMMARY:Charlotte Democrats Blue Gala Virtual Fund-raiser
DESCRIPTION:Charlotte County Democrats will host its annual Blue Gala fund-raiser virtually on Saturday\, September 19\, 2020 at 6:00 PM. Contact Charlotte County Democrats at 941-764-8440 for more information. To make a difference\, purchase your ticket at https://secure.actblue.com/donate/blue-gala-2020
X-ALT-DESC;FMTTYPE=text/html:Charlotte County Democrats will host its annual Blue Gala fund-raiser virtually on Saturday\, September 19\, 2020 at 6:00 PM. Contact Charlotte County Democrats at 941-764-8440 for more information. To make a difference\, purchase your ticket at https://secure.actblue.com/donate/blue-gala-2020
LOCATION:Virtual - Zoom
UID:e.3611.1114
SEQUENCE:3
DTSTAMP:20260423T233335Z
URL:https://charlottecountychamber-gzcms.preview.gochambermaster.com/events/details/charlotte-democrats-blue-gala-virtual-fund-raiser-1114
END:VEVENT

END:VCALENDAR
