BEGIN:VCALENDAR
VERSION:2.0
PRODID:-//ChamberMaster//Event Calendar 2.0//EN
METHOD:PUBLISH
X-PUBLISHED-TTL:P3D
REFRESH-INTERVAL:P3D
CALSCALE:GREGORIAN
BEGIN:VEVENT
DTSTART:20190312T040000Z
DTEND:20190320T040000Z
X-MICROSOFT-CDO-ALLDAYEVENT:FALSE
SUMMARY:Chamber's Appreciation Game March 22 with the Rays
DESCRIPTION:
X-ALT-DESC;FMTTYPE=text/html:
LOCATION:Charlotte Stone Crabs2300 El Jobean Rd.\, Bldg. A Port Charlotte\, FL 33948
UID:e.3611.44
SEQUENCE:3
DTSTAMP:20260425T213528Z
URL:https://charlottecountychamber-gzcms.preview.gochambermaster.com/events/details/chamber-s-appreciation-game-march-22-with-the-rays-03-12-2019-44
END:VEVENT

END:VCALENDAR
