BEGIN:VCALENDAR
VERSION:2.0
PRODID:-//ChamberMaster//Event Calendar 2.0//EN
METHOD:PUBLISH
X-PUBLISHED-TTL:P3D
REFRESH-INTERVAL:P3D
CALSCALE:GREGORIAN
BEGIN:VEVENT
DTSTART:20211021T130000Z
DTEND:20211021T150000Z
X-MICROSOFT-CDO-ALLDAYEVENT:FALSE
SUMMARY:Campaign Kickoff & Day of Caring
DESCRIPTION:We invite you to join us for our 2021 Kickoff LIVE at 9 a.m. on October 21\, 2021 at the Port Charlotte Town Center near the old Sears Auto Center in the parking lot.  \n\nKickoff Celebration promptly at 9 a.m.\n\n	Pick up your very own signature Day of Caring t-shirt.\n	Say thank you to over 16 local nonprofits that are present.\n	Stay for Chick-Fil-A box lunches at 10:30 a.m.
X-ALT-DESC;FMTTYPE=text/html:<span style="color:black\;"><span style="font-family:calibri\,sans-serif\;"><span style="font-size:14.0pt\;">We invite you to join us for our 2021 Kickoff LIVE at 9 a.m. on October 21\, 2021 at&nbsp\;the Port Charlotte Town Center near the old Sears Auto Center in the parking lot.&nbsp\;&nbsp\;</span></span></span><br />\nKickoff Celebration promptly at 9 a.m.\n<ul>\n	<li style="color:black\;background:white\;">Pick up your very own signature Day of Caring t-shirt.</li>\n	<li style="color:black\;background:white\;">Say thank you to over 16 local nonprofits that are present.</li>\n	<li style="color:black\;background:white\;">Stay for Chick-Fil-A box lunches at 10:30 a.m.</li>\n</ul>\n
LOCATION:Port Charlotte Town Center 1441 Tamiami Trail Port Charlotte\, FL
UID:e.3611.2189
SEQUENCE:3
DTSTAMP:20260421T221158Z
URL:https://charlottecountychamber-gzcms.preview.gochambermaster.com/events/details/campaign-kickoff-day-of-caring-2189
END:VEVENT

END:VCALENDAR
