BEGIN:VCALENDAR
VERSION:2.0
PRODID:-//ChamberMaster//Event Calendar 2.0//EN
METHOD:PUBLISH
X-PUBLISHED-TTL:P3D
REFRESH-INTERVAL:P3D
CALSCALE:GREGORIAN
BEGIN:VEVENT
DTSTART:20220521T150000Z
DTEND:20220521T210000Z
X-MICROSOFT-CDO-ALLDAYEVENT:FALSE
SUMMARY:Business & Hurricane Expo
DESCRIPTION:It's back! The Business & Hurricane Expo presented by Jansen Shutters & Windows will be on May 21 from 11 am to 5 pm at the Port Charlotte Town Center Mall. Sponsored by Shore Point and Storm Smart this annual event will bring together Emergency Management Services from Charlotte County\,  Sarasota County\, and the City of North Port\, all with speakers to get you ready for the 2022 Hurricane Season. The Daily Sun and Venice Gondolier will also be discussing how they plan to inform the public before\, after\, and during a hurricane. This is a must-attend event that will be filled with demos and survival tips from local professionals.  This event is brought to you by The Daily Sun and Venice Gondolier. Want to reserve your space\, call 941-206-1810.
X-ALT-DESC;FMTTYPE=text/html:It&#39\;s back! The Business &amp\; Hurricane Expo presented by Jansen Shutters &amp\; Windows will be on May 21 from 11 am to 5 pm at the Port Charlotte Town Center Mall. Sponsored by Shore Point and Storm Smart this annual event will bring together Emergency Management Services from Charlotte County\,&nbsp\; Sarasota County\, and the City of North Port\, all with speakers to get you ready for the 2022 Hurricane Season. The Daily Sun and Venice Gondolier will also be discussing how they plan to inform the public before\, after\, and during a hurricane. This is a must-attend event that will be filled with demos and survival tips from local professionals.&nbsp\; This event is brought to you by The Daily Sun and Venice Gondolier. Want to reserve your space\, call 941-206-1810.
LOCATION:Port Charlotte Town Center
UID:e.3611.3016
SEQUENCE:3
DTSTAMP:20260420T180744Z
URL:https://charlottecountychamber-gzcms.preview.gochambermaster.com/events/details/business-hurricane-expo-3016
END:VEVENT

END:VCALENDAR
